BEGIN:VCALENDAR
VERSION:2.0
PRODID:-//ChamberMaster//Event Calendar 2.0//EN
METHOD:PUBLISH
X-PUBLISHED-TTL:P3D
REFRESH-INTERVAL:P3D
CALSCALE:GREGORIAN
BEGIN:VEVENT
DTSTART:20180612T140000Z
DTEND:20180612T230000Z
X-MICROSOFT-CDO-ALLDAYEVENT:FALSE
SUMMARY:WITC Registration Day
DESCRIPTION:Everything you need to apply at WITC and get admitted into the program of your choice. No appointment necessary. Register to win $50 Bookstore gift cards.
X-ALT-DESC;FMTTYPE=text/html:Everything you need to apply at WITC and get admitted into the program of your choice. No appointment necessary. Register to win $50 Bookstore gift cards.
LOCATION:WITC-New Richmond
UID:e.249.4934
SEQUENCE:3
DTSTAMP:20260420T015358Z
URL:https://www.newrichmondchamber.com/events/details/witc-registration-day-4934
END:VEVENT

END:VCALENDAR
