BEGIN:VCALENDAR
VERSION:2.0
PRODID:-//ChamberMaster//Event Calendar 2.0//EN
METHOD:PUBLISH
X-PUBLISHED-TTL:P3D
REFRESH-INTERVAL:P3D
CALSCALE:GREGORIAN
BEGIN:VEVENT
DTSTART:20191119T160000Z
DTEND:20191119T180000Z
X-MICROSOFT-CDO-ALLDAYEVENT:FALSE
SUMMARY:Willow River Writers
DESCRIPTION:Willow River Writers is organized under the auspices of the Friday Memorial Library. The group plans to meet on the first and third Tuesday of each month. Participants are encouraged to bring something they have written to share with the group
X-ALT-DESC;FMTTYPE=text/html:Willow River Writers is organized under the auspices of the Friday Memorial Library. The group plans to meet on the first and third Tuesday of each month. Participants are encouraged to bring something they have written to share with the group
LOCATION:Lower Level Civic Center
UID:e.249.3884
SEQUENCE:3
DTSTAMP:20260422T044523Z
URL:https://www.newrichmondchamber.com/events/details/willow-river-writers-11-19-2019-3884
END:VEVENT

END:VCALENDAR
