BEGIN:VCALENDAR
VERSION:2.0
PRODID:-//ChamberMaster//Event Calendar 2.0//EN
METHOD:PUBLISH
X-PUBLISHED-TTL:P3D
REFRESH-INTERVAL:P3D
CALSCALE:GREGORIAN
BEGIN:VEVENT
DTSTART:20220611T170000Z
DTEND:20220611T210000Z
X-MICROSOFT-CDO-ALLDAYEVENT:FALSE
SUMMARY:Taste of Glenna Farms
DESCRIPTION:Get ready for summer entertaining with Glenna Farms! Enjoy an afternoon of wine and craft beer tasting\, and cheese and gourmet food sampling.
X-ALT-DESC;FMTTYPE=text/html:Get ready for summer entertaining with Glenna Farms! Enjoy an afternoon of wine and craft beer tasting\, and cheese and gourmet food sampling.
LOCATION:Glenna Farms 1333 12oth Street Amery\, WI 54001
UID:e.249.6999
SEQUENCE:3
DTSTAMP:20260422T201227Z
URL:https://www.newrichmondchamber.com/events/details/taste-of-glenna-farms-06-11-2022-6999
END:VEVENT

END:VCALENDAR
