BEGIN:VCALENDAR
VERSION:2.0
PRODID:-//ChamberMaster//Event Calendar 2.0//EN
METHOD:PUBLISH
X-PUBLISHED-TTL:P3D
REFRESH-INTERVAL:P3D
CALSCALE:GREGORIAN
BEGIN:VEVENT
DTSTART:20230610T170000Z
DTEND:20230610T210000Z
X-MICROSOFT-CDO-ALLDAYEVENT:FALSE
SUMMARY:Taste of Glenna Farms
DESCRIPTION:Get ready for summer entertaining! Enjoy an afternoon of free wine and craft beer tasting with gourmet food and cheese sampling.
X-ALT-DESC;FMTTYPE=text/html:Get ready for summer entertaining! Enjoy an afternoon of free wine and craft beer tasting with gourmet food and cheese sampling.
LOCATION:Glenna Farms 1333 120th Street Amery\, WI 54001
UID:e.249.7236
SEQUENCE:3
DTSTAMP:20260421T233720Z
URL:https://www.newrichmondchamber.com/events/details/taste-of-glenna-farms-06-10-2023-7236
END:VEVENT

END:VCALENDAR
