BEGIN:VCALENDAR
VERSION:2.0
PRODID:-//ChamberMaster//Event Calendar 2.0//EN
METHOD:PUBLISH
X-PUBLISHED-TTL:P3D
REFRESH-INTERVAL:P3D
CALSCALE:GREGORIAN
BEGIN:VEVENT
DTSTART:20190627T150000Z
DTEND:20190627T160000Z
X-MICROSOFT-CDO-ALLDAYEVENT:FALSE
SUMMARY:Summer Stories
DESCRIPTION:For Pre-K plus. Join us for an interactive story time with stories\, songs\, and activities.
X-ALT-DESC;FMTTYPE=text/html:For Pre-K plus. Join us for an interactive story time with stories\, songs\, and activities.
LOCATION:Friday Memorial Library
UID:e.249.5452
SEQUENCE:3
DTSTAMP:20260423T003058Z
URL:https://www.newrichmondchamber.com/events/details/summer-stories-06-27-2019-5452
END:VEVENT

END:VCALENDAR
