BEGIN:VCALENDAR
VERSION:2.0
PRODID:-//ChamberMaster//Event Calendar 2.0//EN
METHOD:PUBLISH
X-PUBLISHED-TTL:P3D
REFRESH-INTERVAL:P3D
CALSCALE:GREGORIAN
BEGIN:VEVENT
DTSTART:20230513T153000Z
DTEND:20230513T180000Z
X-MICROSOFT-CDO-ALLDAYEVENT:FALSE
SUMMARY:"Stomp the Stigma" walk for Mental Health Awareness
DESCRIPTION:New Richmond School District Wellness Committee presents the second annual "Stomp the Stigma" walk for Mental Health Awareness. The event is open to the community\, all ages are invited!\n\nSaturday\, May 13th 2023\n\n	10:30-10:45 - Welcome at Middle School south parking lot (off Bilmar Ave)\n	11:00 - Walking begins toward High School athletic stadium\n	11:30-12:15 - Wellness fair with local community sponsors \n	12:15-12:45 - Guest speaker: Dr. John Klem\n	1:00 - Dismissal\, bus shuttle available back to NRMS\n\nRegister Now: https://forms.gle/DUoBoXDhEnvQ1653A
X-ALT-DESC;FMTTYPE=text/html:<span style="color:#333333\;"><span style="font-family:trebuchet ms\,sans-serif\;">New Richmond School District Wellness Committee presents the second annual &quot\;Stomp the Stigma&quot\; walk for Mental Health Awareness. The event is open to the community\, all ages are invited!</span></span><br />\n<strong style="box-sizing:border-box\;"><span style="color:#333333\;"><span style="font-family:trebuchet ms\,sans-serif\;">Saturday\, May 13th 2023</span></span></strong>\n<ul>\n	<li style="margin-bottom:3.75pt\;"><span style="color:#333333\;"><span style="font-family:trebuchet ms\,sans-serif\;">10:30-10:45 - Welcome at Middle School south parking lot (off Bilmar Ave)</span></span></li>\n	<li style="margin-bottom:3.75pt\;"><span style="color:#333333\;"><span style="font-family:trebuchet ms\,sans-serif\;">11:00 - Walking begins toward High School athletic stadium</span></span></li>\n	<li style="margin-bottom:3.75pt\;"><span style="color:#333333\;"><span style="font-family:trebuchet ms\,sans-serif\;">11:30-12:15 - Wellness fair with local community sponsors&nbsp\;</span></span></li>\n	<li style="margin-bottom:3.75pt\;"><span style="color:#333333\;"><span style="font-family:trebuchet ms\,sans-serif\;">12:15-12:45 - Guest speaker: Dr. John Klem</span></span></li>\n	<li style="margin-bottom:3.75pt\;"><span style="color:#333333\;"><span style="font-family:trebuchet ms\,sans-serif\;">1:00 - Dismissal\, bus shuttle available back to NRMS</span></span></li>\n</ul>\n<span style="color:#333333\;"><span style="font-family:trebuchet ms\,sans-serif\;">Register Now:&nbsp\;</span></span><span style="font-family:trebuchet ms\,sans-serif\;"><a href="https://forms.gle/DUoBoXDhEnvQ1653A" target="_blank">https://forms.gle/DUoBoXDhEnvQ1653A</a></span><br />\n&nbsp\;<br />\n&nbsp\;
LOCATION:
UID:e.249.7183
SEQUENCE:3
DTSTAMP:20260422T014128Z
URL:https://www.newrichmondchamber.com/events/details/stomp-the-stigma-walk-for-mental-health-awareness-7183
END:VEVENT

END:VCALENDAR
