BEGIN:VCALENDAR
VERSION:2.0
PRODID:-//ChamberMaster//Event Calendar 2.0//EN
METHOD:PUBLISH
X-PUBLISHED-TTL:P3D
REFRESH-INTERVAL:P3D
CALSCALE:GREGORIAN
BEGIN:VEVENT
DTSTART:20231012T150000Z
DTEND:20231012T210000Z
X-MICROSOFT-CDO-ALLDAYEVENT:FALSE
SUMMARY:St. Croix Valley Leadership Program
DESCRIPTION:Mission\n\n \n\nLeadership New Richmond is an exclusive program created and designed to help local professionals develop their network and sharpen their leadership skills though engaging in 7 fundamental areas that make up our community.
X-ALT-DESC;FMTTYPE=text/html:<p align="center" style="box-sizing: border-box\; margin: 0px 0px 10px\; letter-spacing: 0.5px\; color: rgb(85\, 85\, 85)\; font-family: Raleway\, sans-serif\; font-size: 16px\; background-color: rgb(243\, 243\, 243)\;"><span style="box-sizing: border-box\; font-family: &quot\;times new roman&quot\;\, times\, serif\;"><span style="box-sizing: border-box\; font-size: 24px\;"><strong style="box-sizing: border-box\;">Mission</strong></span></span></p>\n\n<p style="box-sizing: border-box\; margin: 0px 0px 10px\; letter-spacing: 0.5px\; color: rgb(85\, 85\, 85)\; font-family: Raleway\, sans-serif\; font-size: 16px\; background-color: rgb(243\, 243\, 243)\;">&nbsp\;</p>\n\n<p style="box-sizing: border-box\; margin: 0px 0px 10px\; letter-spacing: 0.5px\; color: rgb(85\, 85\, 85)\; font-family: Raleway\, sans-serif\; font-size: 16px\; background-color: rgb(243\, 243\, 243)\; text-align: center\;">Leadership New Richmond is an exclusive program created and designed to help local professionals develop their network and sharpen their leadership skills though engaging in 7 fundamental areas that make up our community.</p>\n\n<p style="box-sizing: border-box\; margin: 0px 0px 10px\; letter-spacing: 0.5px\; color: rgb(85\, 85\, 85)\; font-family: Raleway\, sans-serif\; font-size: 16px\; background-color: rgb(243\, 243\, 243)\;">&nbsp\;</p>\n
LOCATION:
UID:e.249.7256
SEQUENCE:3
DTSTAMP:20260421T212137Z
URL:https://www.newrichmondchamber.com/events/details/st-croix-valley-leadership-program-7256
END:VEVENT

END:VCALENDAR
