BEGIN:VCALENDAR
VERSION:2.0
PRODID:-//ChamberMaster//Event Calendar 2.0//EN
METHOD:PUBLISH
X-PUBLISHED-TTL:P3D
REFRESH-INTERVAL:P3D
CALSCALE:GREGORIAN
BEGIN:VEVENT
DTSTART:20230609T110000Z
DTEND:20230610T010000Z
X-MICROSOFT-CDO-ALLDAYEVENT:FALSE
SUMMARY:Simply Bowls Public Opening
DESCRIPTION:Simply Bowls Public Opening
X-ALT-DESC;FMTTYPE=text/html:Simply Bowls Public Opening
LOCATION:228 Paperjack Drive New Richmond\, WI
UID:e.249.7245
SEQUENCE:3
DTSTAMP:20260421T233440Z
URL:https://www.newrichmondchamber.com/events/details/simply-bowls-public-opening-7245
END:VEVENT

END:VCALENDAR
