BEGIN:VCALENDAR
VERSION:2.0
PRODID:-//ChamberMaster//Event Calendar 2.0//EN
METHOD:PUBLISH
X-PUBLISHED-TTL:P3D
REFRESH-INTERVAL:P3D
CALSCALE:GREGORIAN
BEGIN:VEVENT
DTSTART:20180920T213000Z
DTEND:20180920T233000Z
X-MICROSOFT-CDO-ALLDAYEVENT:FALSE
SUMMARY:Ruby's Pop-Up Pantry
DESCRIPTION:For a $20 donation per share. You will receive an abundance of groceries. There are no income or residency requirements   everyone that eats is welcome! Bring 2 boxes or totes for your food share distribution. For more information\, visit: https://www.rubyspantry.org/.
X-ALT-DESC;FMTTYPE=text/html:For a $20 donation per share. You will receive an abundance of groceries. There are no income or residency requirements &ndash\; everyone that eats is welcome! Bring 2 boxes or totes for your food share distribution. For more information\, visit: https://www.rubyspantry.org/.
LOCATION:New Richmond Armory 1245 Wall Street New Richmond\, WI
UID:e.249.5317
SEQUENCE:3
DTSTAMP:20260424T033406Z
URL:https://www.newrichmondchamber.com/events/details/ruby-s-pop-up-pantry-5317
END:VEVENT

END:VCALENDAR
