BEGIN:VCALENDAR
VERSION:2.0
PRODID:-//ChamberMaster//Event Calendar 2.0//EN
METHOD:PUBLISH
X-PUBLISHED-TTL:P3D
REFRESH-INTERVAL:P3D
CALSCALE:GREGORIAN
BEGIN:VEVENT
DTSTART:20230806T200000Z
DTEND:20230806T230000Z
X-MICROSOFT-CDO-ALLDAYEVENT:FALSE
SUMMARY:Rise - Summer Celebration Picnic
DESCRIPTION:Sunday\, August 6\, 2023\n\n3:00   6:00 p.m.\n\nAquatore park\n\n9191 Lincoln St NE\, Blaine\, MN\n\nCelebrate Rise's anniversary with the people served by Rise\, their families\, and our staff for fun in the park with games\, delicious food\, and music by DJ John Thorp!\n\nEvent is free to attend.\n\nDonations will be requested.\n\nRSVP's encouraged not required.\n\nRSVP with full names of attendees and contact email to info@rise.org or 763-786-8334 by 7/21.
X-ALT-DESC;FMTTYPE=text/html:<p class="x_x_ContentPasted0" style="margin: 0px 0px 10px\; box-sizing: border-box\; font-size: 18px\; line-height: 1.7\; font-family: Lato\, sans-serif\; color: rgb(42\, 43\, 55) !important\;"><span class="x_x_ContentPasted0 x_ContentPasted0" style="border: 0px\; font-style: inherit\; font-variant: inherit\; font-weight: inherit\; font-stretch: inherit\; font-size: 12pt\; line-height: normal\; font-family: Calibri\, Helvetica\, sans-serif\; margin: 0px\; padding: 0px\; vertical-align: baseline\; color: rgb(0\, 0\, 0) !important\;">Sunday\, August 6\, 2023</span></p>\n\n<p class="x_x_ContentPasted0" style="margin: 0px 0px 10px\; box-sizing: border-box\; font-size: 18px\; line-height: 1.7\; font-family: Lato\, sans-serif\; color: rgb(42\, 43\, 55) !important\;"><span class="x_x_ContentPasted0 x_ContentPasted0" style="border: 0px\; font-style: inherit\; font-variant: inherit\; font-weight: inherit\; font-stretch: inherit\; font-size: 12pt\; line-height: normal\; font-family: Calibri\, Helvetica\, sans-serif\; margin: 0px\; padding: 0px\; vertical-align: baseline\; color: rgb(0\, 0\, 0) !important\;">3:00 &ndash\; 6:00 p.m.</span></p>\n\n<p class="x_x_ContentPasted0" style="margin: 0px 0px 10px\; box-sizing: border-box\; font-size: 18px\; line-height: 1.7\; font-family: Lato\, sans-serif\; color: rgb(42\, 43\, 55) !important\;"><span class="x_x_ContentPasted0 x_ContentPasted0" style="border: 0px\; font-style: inherit\; font-variant: inherit\; font-weight: inherit\; font-stretch: inherit\; font-size: 12pt\; line-height: normal\; font-family: Calibri\, Helvetica\, sans-serif\; margin: 0px\; padding: 0px\; vertical-align: baseline\; color: rgb(0\, 0\, 0) !important\;">Aquatore park</span></p>\n\n<p class="x_x_ContentPasted0" style="margin: 0px 0px 10px\; box-sizing: border-box\; font-size: 18px\; line-height: 1.7\; font-family: Lato\, sans-serif\; color: rgb(42\, 43\, 55) !important\;"><a class="x_x_ContentPasted0 x_ContentPasted0" data-auth="NotApplicable" data-linkindex="2" data-loopstyle="link" href="https://goo.gl/maps/RdQ4B5WeEZRVstm56" rel="noopener noreferrer" style="border: 0px\; font: inherit\; margin: 0px\; padding: 0px\; vertical-align: baseline\; box-sizing: border-box\; text-decoration-line: none\; color: rgb(198\, 52\, 145) !important\;" target="_blank"><span style="border: 0px\; font-style: inherit\; font-variant: inherit\; font-weight: inherit\; font-stretch: inherit\; font-size: 12pt\; line-height: normal\; font-family: Calibri\, Helvetica\, sans-serif\; margin: 0px\; padding: 0px\; vertical-align: baseline\; color: rgb(0\, 0\, 0) !important\;">9191 Lincoln St NE\, Blaine\, MN</span></a></p>\n\n<p class="x_x_ContentPasted0" style="margin: 0px 0px 10px\; box-sizing: border-box\; font-size: 18px\; line-height: 1.7\; font-family: Lato\, sans-serif\; color: rgb(42\, 43\, 55) !important\;"><span class="x_x_ContentPasted0 x_ContentPasted0" style="border: 0px\; font-style: inherit\; font-variant: inherit\; font-weight: inherit\; font-stretch: inherit\; font-size: 12pt\; line-height: normal\; font-family: Calibri\, Helvetica\, sans-serif\; margin: 0px\; padding: 0px\; vertical-align: baseline\; color: rgb(0\, 0\, 0) !important\;">Celebrate Rise&rsquo\;s anniversary with the people served by Rise\, their families\, and our staff for fun in the park with games\, delicious food\, and music by DJ John Thorp!</span></p>\n\n<p class="x_x_ContentPasted0" style="margin: 0px 0px 10px\; box-sizing: border-box\; font-size: 18px\; line-height: 1.7\; font-family: Lato\, sans-serif\; color: rgb(42\, 43\, 55) !important\;"><span class="x_x_ContentPasted0 x_ContentPasted0" style="border: 0px\; font-style: inherit\; font-variant: inherit\; font-weight: inherit\; font-stretch: inherit\; font-size: 12pt\; line-height: normal\; font-family: Calibri\, Helvetica\, sans-serif\; margin: 0px\; padding: 0px\; vertical-align: baseline\; color: rgb(0\, 0\, 0) !important\;">Event is free to attend.</span><br aria-hidden="true" class="x_x_ContentPasted0 x_ContentPasted0" style="box-sizing: border-box\;" />\n<span class="x_x_ContentPasted0 x_ContentPasted0" style="border: 0px\; font-style: inherit\; font-variant: inherit\; font-weight: inherit\; font-stretch: inherit\; font-size: 12pt\; line-height: normal\; font-family: Calibri\, Helvetica\, sans-serif\; margin: 0px\; padding: 0px\; vertical-align: baseline\; color: rgb(0\, 0\, 0) !important\;">Donations will be requested.</span><br aria-hidden="true" class="x_x_ContentPasted0 x_ContentPasted0" style="box-sizing: border-box\;" />\n<span class="x_x_ContentPasted0 x_ContentPasted0" style="border: 0px\; font-style: inherit\; font-variant: inherit\; font-weight: inherit\; font-stretch: inherit\; font-size: 12pt\; line-height: normal\; font-family: Calibri\, Helvetica\, sans-serif\; margin: 0px\; padding: 0px\; vertical-align: baseline\; color: rgb(0\, 0\, 0) !important\;">RSVP&rsquo\;s encouraged not required.</span><br aria-hidden="true" class="x_x_ContentPasted0 x_ContentPasted0" style="box-sizing: border-box\;" />\n<span class="x_x_ContentPasted0 x_ContentPasted0" style="border: 0px\; font-style: inherit\; font-variant: inherit\; font-weight: inherit\; font-stretch: inherit\; font-size: 12pt\; line-height: normal\; font-family: Calibri\, Helvetica\, sans-serif\; margin: 0px\; padding: 0px\; vertical-align: baseline\; color: rgb(0\, 0\, 0) !important\;">RSVP with full names of attendees and contact email to</span><span class="x_x_ContentPasted0 x_ContentPasted0" style="border: 0px\; font-style: inherit\; font-variant: inherit\; font-weight: inherit\; font-stretch: inherit\; font-size: 12pt\; line-height: normal\; font-family: Calibri\, Helvetica\, sans-serif\; margin: 0px\; padding: 0px\; vertical-align: baseline\; color: rgb(0\, 0\, 0) !important\;">&nbsp\;</span><a class="x_x_ContentPasted0 x_ContentPasted0" data-auth="NotApplicable" data-linkindex="3" data-loopstyle="link" href="mailto:info@rise.org" rel="noopener noreferrer" style="border: 0px\; font: inherit\; margin: 0px\; padding: 0px\; vertical-align: baseline\; box-sizing: border-box\; text-decoration-line: none\; color: rgb(198\, 52\, 145) !important\;" target="_blank"><span style="border: 0px\; font-style: inherit\; font-variant: inherit\; font-weight: inherit\; font-stretch: inherit\; font-size: 12pt\; line-height: normal\; font-family: Calibri\, Helvetica\, sans-serif\; margin: 0px\; padding: 0px\; vertical-align: baseline\; color: rgb(0\, 0\, 0) !important\;">info@rise.org</span></a><span class="x_x_ContentPasted0 x_ContentPasted0" style="border: 0px\; font-style: inherit\; font-variant: inherit\; font-weight: inherit\; font-stretch: inherit\; font-size: 12pt\; line-height: normal\; font-family: Calibri\, Helvetica\, sans-serif\; margin: 0px\; padding: 0px\; vertical-align: baseline\; color: rgb(0\, 0\, 0) !important\;">&nbsp\;</span><span class="x_x_ContentPasted0 x_ContentPasted0" style="border: 0px\; font-style: inherit\; font-variant: inherit\; font-weight: inherit\; font-stretch: inherit\; font-size: 12pt\; line-height: normal\; font-family: Calibri\, Helvetica\, sans-serif\; margin: 0px\; padding: 0px\; vertical-align: baseline\; color: rgb(0\, 0\, 0) !important\;">or 763-786-8334 by 7/21.</span></p>\n
LOCATION:9191 Lincoln St NE\, Blaine\, MN
UID:e.249.7240
SEQUENCE:3
DTSTAMP:20260421T201114Z
URL:https://www.newrichmondchamber.com/events/details/rise-summer-celebration-picnic-7240
END:VEVENT

END:VCALENDAR
