BEGIN:VCALENDAR
VERSION:2.0
PRODID:-//ChamberMaster//Event Calendar 2.0//EN
METHOD:PUBLISH
X-PUBLISHED-TTL:P3D
REFRESH-INTERVAL:P3D
CALSCALE:GREGORIAN
BEGIN:VEVENT
DTSTART:20251106T163000Z
DTEND:20251106T190000Z
X-MICROSOFT-CDO-ALLDAYEVENT:FALSE
SUMMARY:Rise Inclusive Employment Luncheon
DESCRIPTION:We invite you and your team to join us for our second inclusive employment luncheon and networking event. Doors open at 10:30 a.m. for networking with Rise partners and other disability-inclusive employers. During the luncheon starting at 11:30 a.m.\, you will enjoy a great meal\, learn inclusive employment business practices from expert special guests\, share expertise with other businesses\, and brainstorm how you can boost your workforce. We encourage you to extend an invitation to businesses in your network that you think will benefit from learning more about inclusive employment. Invite them to join you at your table! Menu: Chicken Veronique or Grilled Vegetable and Rainbow Quinoa Admission is $60 for an individual and $480 for a table of 8. Purchase your spot here: http://weblink.donorperfect.com/RiseLuncheon2025
X-ALT-DESC;FMTTYPE=text/html:We invite you and your team to join us for our second inclusive employment luncheon and networking event. Doors open at 10:30 a.m. for networking with Rise partners and other disability-inclusive employers. During the luncheon starting at 11:30 a.m.\, you will enjoy a great meal\, learn inclusive employment business practices from expert special guests\, share expertise with other businesses\, and brainstorm how you can boost your workforce. We encourage you to extend an invitation to businesses in your network that you think will benefit from learning more about inclusive employment. Invite them to join you at your table! Menu: Chicken Veronique or Grilled Vegetable and Rainbow Quinoa Admission is $60 for an individual and $480 for a table of 8. Purchase your spot here: http://weblink.donorperfect.com/RiseLuncheon2025
LOCATION:Silverwood Park Great Hall 2500 County Rd E\, St. Anthony\, MN 55421
UID:e.249.7913
SEQUENCE:3
DTSTAMP:20260419T193435Z
URL:https://www.newrichmondchamber.com/events/details/rise-inclusive-employment-luncheon-7913
END:VEVENT

END:VCALENDAR
