BEGIN:VCALENDAR
VERSION:2.0
PRODID:-//ChamberMaster//Event Calendar 2.0//EN
METHOD:PUBLISH
X-PUBLISHED-TTL:P3D
REFRESH-INTERVAL:P3D
CALSCALE:GREGORIAN
BEGIN:VEVENT
DTSTART:20231102T153000Z
DTEND:20231102T173000Z
X-MICROSOFT-CDO-ALLDAYEVENT:FALSE
SUMMARY:Rise Inclusive Employment Forum - networking and luncheon
DESCRIPTION:We invite you and your team to join us for our first inclusive employment forum\, luncheon\, and networking event.\n\nInwood Oaks Event Center\n\n484 Inwood Avenue North\n\nOakdale\, Minnesota 55128\n\nDoors open at 10:30 a.m. for networking with Rise partners and other disability-inclusive employers.\n\nDuring the luncheon and panel portion at 11:30 a.m.\, you will enjoy a great meal\, learn inclusive employment business practices\, share expertise with other businesses\, and brainstorm how you can boost your workforce with Rise.\n\nWe encourage you to extend an invitation to businesses in your network that you think will benefit from learning more about inclusive employment. Invite them to join you at your table!\n\nMenu and ticketing information coming soon
X-ALT-DESC;FMTTYPE=text/html:<p class="x_x_ContentPasted4" style="margin: 0px 0px 10px\; box-sizing: border-box\; font-size: 18px\; line-height: 1.7\; font-family: Lato\, sans-serif\; color: rgb(42\, 43\, 55) !important\;"><span class="x_x_ContentPasted0 x_ContentPasted0" style="border: 0px\; font-style: inherit\; font-variant: inherit\; font-weight: inherit\; font-stretch: inherit\; font-size: 12pt\; line-height: normal\; font-family: Calibri\, Helvetica\, sans-serif\; margin: 0px\; padding: 0px\; vertical-align: baseline\; color: rgb(0\, 0\, 0) !important\;">We invite you and your team to join us for our first inclusive employment forum\, luncheon\, and networking event.</span></p>\n\n<p class="x_x_ContentPasted4" style="margin: 0px 0px 10px\; box-sizing: border-box\; font-size: 18px\; line-height: 1.7\; font-family: Lato\, sans-serif\; color: rgb(42\, 43\, 55) !important\;"><span class="x_x_ContentPasted0 x_ContentPasted0" style="border: 0px\; font-style: inherit\; font-variant: inherit\; font-weight: inherit\; font-stretch: inherit\; font-size: 12pt\; line-height: normal\; font-family: Calibri\, Helvetica\, sans-serif\; margin: 0px\; padding: 0px\; vertical-align: baseline\; color: rgb(0\, 0\, 0) !important\;">Inwood Oaks Event Center</span><br aria-hidden="true" class="x_x_ContentPasted4 x_x_ContentPasted0 x_ContentPasted0" style="box-sizing: border-box\;" />\n<span class="x_x_ContentPasted0 x_ContentPasted0" style="border: 0px\; font-style: inherit\; font-variant: inherit\; font-weight: inherit\; font-stretch: inherit\; font-size: 12pt\; line-height: normal\; font-family: Calibri\, Helvetica\, sans-serif\; margin: 0px\; padding: 0px\; vertical-align: baseline\; color: rgb(0\, 0\, 0) !important\;">484 Inwood Avenue North</span><br aria-hidden="true" class="x_x_ContentPasted4 x_x_ContentPasted0 x_ContentPasted0" style="box-sizing: border-box\;" />\n<span class="x_x_ContentPasted0 x_ContentPasted0" style="border: 0px\; font-style: inherit\; font-variant: inherit\; font-weight: inherit\; font-stretch: inherit\; font-size: 12pt\; line-height: normal\; font-family: Calibri\, Helvetica\, sans-serif\; margin: 0px\; padding: 0px\; vertical-align: baseline\; color: rgb(0\, 0\, 0) !important\;">Oakdale\, Minnesota 55128</span></p>\n\n<p class="x_x_ContentPasted4" style="margin: 0px 0px 10px\; box-sizing: border-box\; font-size: 18px\; line-height: 1.7\; font-family: Lato\, sans-serif\; color: rgb(42\, 43\, 55) !important\;"><span class="x_x_ContentPasted0 x_ContentPasted0" style="border: 0px\; font-style: inherit\; font-variant: inherit\; font-weight: inherit\; font-stretch: inherit\; font-size: 12pt\; line-height: normal\; font-family: Calibri\, Helvetica\, sans-serif\; margin: 0px\; padding: 0px\; vertical-align: baseline\; color: rgb(0\, 0\, 0) !important\;">Doors open at 10:30 a.m. for networking with Rise partners and other disability-inclusive employers.</span></p>\n\n<p class="x_x_ContentPasted4" style="margin: 0px 0px 10px\; box-sizing: border-box\; font-size: 18px\; line-height: 1.7\; font-family: Lato\, sans-serif\; color: rgb(42\, 43\, 55) !important\;"><span class="x_x_ContentPasted0 x_ContentPasted0" style="border: 0px\; font-style: inherit\; font-variant: inherit\; font-weight: inherit\; font-stretch: inherit\; font-size: 12pt\; line-height: normal\; font-family: Calibri\, Helvetica\, sans-serif\; margin: 0px\; padding: 0px\; vertical-align: baseline\; color: rgb(0\, 0\, 0) !important\;">During the luncheon and panel portion at 11:30 a.m.\, you will enjoy a great meal\, learn inclusive employment business practices\, share expertise with other businesses\, and brainstorm how you can boost your workforce with Rise.</span></p>\n\n<p class="x_x_ContentPasted4" style="margin: 0px 0px 10px\; box-sizing: border-box\; font-size: 18px\; line-height: 1.7\; font-family: Lato\, sans-serif\; color: rgb(42\, 43\, 55) !important\;"><span class="x_x_ContentPasted0 x_ContentPasted0" style="border: 0px\; font-style: inherit\; font-variant: inherit\; font-weight: inherit\; font-stretch: inherit\; font-size: 12pt\; line-height: normal\; font-family: Calibri\, Helvetica\, sans-serif\; margin: 0px\; padding: 0px\; vertical-align: baseline\; color: rgb(0\, 0\, 0) !important\;">We encourage you to extend an invitation to businesses in your network that you think will benefit from learning more about inclusive employment. Invite them to join you at your table!</span></p>\n\n<p class="x_x_ContentPasted4" style="margin: 0px 0px 10px\; box-sizing: border-box\; font-size: 18px\; line-height: 1.7\; font-family: Lato\, sans-serif\; color: rgb(42\, 43\, 55) !important\;"><span class="x_x_ContentPasted0 x_ContentPasted0" style="border: 0px\; font-style: inherit\; font-variant: inherit\; font-weight: inherit\; font-stretch: inherit\; font-size: 12pt\; line-height: normal\; font-family: Calibri\, Helvetica\, sans-serif\; margin: 0px\; padding: 0px\; vertical-align: baseline\; color: rgb(0\, 0\, 0) !important\;">Menu and ticketing information coming soon&hellip\;</span></p>\n
LOCATION:Inwood Oaks Event Center 484 Inwood Avenue North Oakdale\, Minnesota 55128
UID:e.249.7242
SEQUENCE:3
DTSTAMP:20260421T182306Z
URL:https://www.newrichmondchamber.com/events/details/rise-inclusive-employment-forum-networking-and-luncheon-7242
END:VEVENT

END:VCALENDAR
