BEGIN:VCALENDAR
VERSION:2.0
PRODID:-//ChamberMaster//Event Calendar 2.0//EN
METHOD:PUBLISH
X-PUBLISHED-TTL:P3D
REFRESH-INTERVAL:P3D
CALSCALE:GREGORIAN
BEGIN:VEVENT
DTSTART:20231014T021500Z
DTEND:20231014T022000Z
X-MICROSOFT-CDO-ALLDAYEVENT:FALSE
SUMMARY:Ribbon Cutting - Yard Cards of New Richmond
DESCRIPTION:Ribbon Cutting for Yard Cards of New Richmond
X-ALT-DESC;FMTTYPE=text/html:Ribbon Cutting for Yard Cards of New Richmond
LOCATION:Chamber Office 245 S Knowles Ave New Richmond\, WI
UID:e.249.7272
SEQUENCE:3
DTSTAMP:20260421T230139Z
URL:https://www.newrichmondchamber.com/events/details/ribbon-cutting-yard-cards-of-new-richmond-7272
END:VEVENT

END:VCALENDAR
