BEGIN:VCALENDAR
VERSION:2.0
PRODID:-//ChamberMaster//Event Calendar 2.0//EN
METHOD:PUBLISH
X-PUBLISHED-TTL:P3D
REFRESH-INTERVAL:P3D
CALSCALE:GREGORIAN
BEGIN:VEVENT
DTSTART:20231026T200000Z
DTEND:20231026T203000Z
X-MICROSOFT-CDO-ALLDAYEVENT:FALSE
SUMMARY:Ribbon Cutting - Upward Hound
DESCRIPTION:Ribbon Cutting
X-ALT-DESC;FMTTYPE=text/html:Ribbon Cutting
LOCATION:2134 Hwy 64 New Richmond\, WI
UID:e.249.7294
SEQUENCE:3
DTSTAMP:20260421T171048Z
URL:https://www.newrichmondchamber.com/events/details/ribbon-cutting-upward-hound-7294
END:VEVENT

END:VCALENDAR
