BEGIN:VCALENDAR
VERSION:2.0
PRODID:-//ChamberMaster//Event Calendar 2.0//EN
METHOD:PUBLISH
X-PUBLISHED-TTL:P3D
REFRESH-INTERVAL:P3D
CALSCALE:GREGORIAN
BEGIN:VEVENT
DTSTART:20231101T200000Z
DTEND:20231101T203000Z
X-MICROSOFT-CDO-ALLDAYEVENT:FALSE
SUMMARY:Ribbon Cutting - The House Team\, eXp Realty
DESCRIPTION:Ribbon Cutting
X-ALT-DESC;FMTTYPE=text/html:Ribbon Cutting
LOCATION:603 Grouse Way\, New Richmond WI
UID:e.249.7293
SEQUENCE:3
DTSTAMP:20260421T165437Z
URL:https://www.newrichmondchamber.com/events/details/ribbon-cutting-the-house-team-exp-realty-7293
END:VEVENT

END:VCALENDAR
