BEGIN:VCALENDAR
VERSION:2.0
PRODID:-//ChamberMaster//Event Calendar 2.0//EN
METHOD:PUBLISH
X-PUBLISHED-TTL:P3D
REFRESH-INTERVAL:P3D
CALSCALE:GREGORIAN
BEGIN:VEVENT
DTSTART:20230908T141500Z
DTEND:20230908T142500Z
X-MICROSOFT-CDO-ALLDAYEVENT:FALSE
SUMMARY:Ribbon Cutting - Princess Paula Consulting
DESCRIPTION:Ribbon Cutting for Princess Paula Consulting
X-ALT-DESC;FMTTYPE=text/html:Ribbon Cutting for Princess Paula Consulting&nbsp\;
LOCATION:Chamber Office
UID:e.249.7259
SEQUENCE:3
DTSTAMP:20260421T183722Z
URL:https://www.newrichmondchamber.com/events/details/ribbon-cutting-princess-paula-consulting-7259
END:VEVENT

END:VCALENDAR
