BEGIN:VCALENDAR
VERSION:2.0
PRODID:-//ChamberMaster//Event Calendar 2.0//EN
METHOD:PUBLISH
X-PUBLISHED-TTL:P3D
REFRESH-INTERVAL:P3D
CALSCALE:GREGORIAN
BEGIN:VEVENT
DTSTART:20220915T220000Z
DTEND:20220915T230000Z
X-MICROSOFT-CDO-ALLDAYEVENT:FALSE
SUMMARY:Ribbon Cutting for Cycling without Age
DESCRIPTION:
X-ALT-DESC;FMTTYPE=text/html:
LOCATION:45th Parallel
UID:e.249.7006
SEQUENCE:3
DTSTAMP:20260422T163556Z
URL:https://www.newrichmondchamber.com/events/details/ribbon-cutting-for-cycling-without-age-7006
END:VEVENT

END:VCALENDAR
