BEGIN:VCALENDAR
VERSION:2.0
PRODID:-//ChamberMaster//Event Calendar 2.0//EN
METHOD:PUBLISH
X-PUBLISHED-TTL:P3D
REFRESH-INTERVAL:P3D
CALSCALE:GREGORIAN
BEGIN:VEVENT
DTSTART:20250815T200000Z
DTEND:20250815T203000Z
X-MICROSOFT-CDO-ALLDAYEVENT:FALSE
SUMMARY:Ribbon Cutting - Bobcats Bar & Grill
DESCRIPTION:Ribbon Cutting for Bobcats Bar & Grill
X-ALT-DESC;FMTTYPE=text/html:Ribbon Cutting for Bobcats Bar &amp\; Grill
LOCATION:231 S Knowles Ave
UID:e.249.7910
SEQUENCE:3
DTSTAMP:20260420T031002Z
URL:https://www.newrichmondchamber.com/events/details/ribbon-cutting-bobcats-bar-grill-7910
END:VEVENT

END:VCALENDAR
