BEGIN:VCALENDAR
VERSION:2.0
PRODID:-//ChamberMaster//Event Calendar 2.0//EN
METHOD:PUBLISH
X-PUBLISHED-TTL:P3D
REFRESH-INTERVAL:P3D
CALSCALE:GREGORIAN
BEGIN:VEVENT
DTSTART:20241225T003000Z
DTEND:20241225T013000Z
X-MICROSOFT-CDO-ALLDAYEVENT:FALSE
SUMMARY:Prairieview Christmas Eve Service
DESCRIPTION:Celebrate this Christmas Eve at Prairieview for our special candlelight service! Experience the joy of the Christmas story through a beautiful blend of timeless traditional and contemporary melodies\, featuring the inspiring voices of our Christmas choir. Bring the whole family as we celebrate the birth of Christ amidst the soft glow of a candlelight Silent Night. Learn more at www.prairieviewcov.org/christmas.
X-ALT-DESC;FMTTYPE=text/html:Celebrate this Christmas Eve at Prairieview for our special candlelight service! Experience the joy of the Christmas story through a beautiful blend of timeless traditional and contemporary melodies\, featuring the inspiring voices of our Christmas choir. Bring the whole family as we celebrate the birth of Christ amidst the soft glow of a candlelight Silent Night. Learn more at www.prairieviewcov.org/christmas.
LOCATION:Prairieview Covenant Church 1396 210th Ave New Richmond WI 54017
UID:e.249.7739
SEQUENCE:3
DTSTAMP:20260420T192024Z
URL:https://www.newrichmondchamber.com/events/details/prairieview-christmas-eve-service-7739
END:VEVENT

END:VCALENDAR
