BEGIN:VCALENDAR
VERSION:2.0
PRODID:-//ChamberMaster//Event Calendar 2.0//EN
METHOD:PUBLISH
X-PUBLISHED-TTL:P3D
REFRESH-INTERVAL:P3D
CALSCALE:GREGORIAN
BEGIN:VEVENT
DTSTART;VALUE=DATE:20220924
DTEND;VALUE=DATE:20220926
TRANSP:TRANSPARENT
X-MICROSOFT-CDO-ALLDAYEVENT:TRUE
SUMMARY:Pick Your Own Pumpkin
DESCRIPTION:Pick Your Own Pumpkin at Glenna Farms Take a free hayride to the pumpkin patch to pick your own pumpkin and then enjoy free cookies and apple cider.
X-ALT-DESC;FMTTYPE=text/html:Pick Your Own Pumpkin at Glenna Farms Take a free hayride to the pumpkin patch to pick your own pumpkin and then enjoy free cookies and apple cider.
LOCATION:Glenna Farms 1333 120th Street Amery\, Wisconsin
UID:e.249.7007
SEQUENCE:3
DTSTAMP:20260422T152055Z
URL:https://www.newrichmondchamber.com/events/details/pick-your-own-pumpkin-7007
END:VEVENT

END:VCALENDAR
