BEGIN:VCALENDAR
VERSION:2.0
PRODID:-//ChamberMaster//Event Calendar 2.0//EN
METHOD:PUBLISH
X-PUBLISHED-TTL:P3D
REFRESH-INTERVAL:P3D
CALSCALE:GREGORIAN
BEGIN:VEVENT
DTSTART:20250827T210000Z
DTEND:20250827T230000Z
X-MICROSOFT-CDO-ALLDAYEVENT:FALSE
SUMMARY:Northwood Tech Medical Lab Education Center Ribbon cutting
DESCRIPTION:Northwood Tech in partnership with Westfields hospital and clinic is opening a state of the art Medical Lab Education Center
X-ALT-DESC;FMTTYPE=text/html:Northwood Tech in partnership with Westfields hospital and clinic is opening a state of the art Medical Lab Education Center
LOCATION:821 West 8th Street New Richmond WI 54017
UID:e.249.7893
SEQUENCE:3
DTSTAMP:20260420T043842Z
URL:https://www.newrichmondchamber.com/events/details/northwood-tech-medical-lab-education-center-ribbon-cutting-7893
END:VEVENT

END:VCALENDAR
