BEGIN:VCALENDAR
VERSION:2.0
PRODID:-//ChamberMaster//Event Calendar 2.0//EN
METHOD:PUBLISH
X-PUBLISHED-TTL:P3D
REFRESH-INTERVAL:P3D
CALSCALE:GREGORIAN
BEGIN:VEVENT
DTSTART:20180608T140000Z
DTEND:20180608T143000Z
X-MICROSOFT-CDO-ALLDAYEVENT:FALSE
SUMMARY:Membership 101
DESCRIPTION:Make sure you are making the most of your membership! Great for longtime or new members\, send any staff members who would benefit from learning more about the Chamber. Also open for potential members\, as an opportunity to see if our Chamber is right for you.
X-ALT-DESC;FMTTYPE=text/html:Make sure you are making the most of your membership! Great for longtime or new members\, send any staff members who would benefit from learning more about the Chamber. Also open for potential members\, as an opportunity to see if our Chamber is right for you.
LOCATION:Chamber Office
UID:e.249.4921
SEQUENCE:3
DTSTAMP:20260421T051533Z
URL:https://www.newrichmondchamber.com/events/details/membership-101-4921
END:VEVENT

END:VCALENDAR
