BEGIN:VCALENDAR
VERSION:2.0
PRODID:-//ChamberMaster//Event Calendar 2.0//EN
METHOD:PUBLISH
X-PUBLISHED-TTL:P3D
REFRESH-INTERVAL:P3D
CALSCALE:GREGORIAN
BEGIN:VEVENT
DTSTART:20240323T150000Z
DTEND:20240324T190000Z
X-MICROSOFT-CDO-ALLDAYEVENT:FALSE
SUMMARY:MapleFest 2024
DESCRIPTION:Glenna Farms invites the community back on Saturday\, March 23 and Sunday\, March 24 for their annual event\, MapleFest. The event\, which goes from 10 a.m. to 2 p.m. each day\, allows members of the community to interact with the process of producing pure maple syrup with live demonstrations of cooking sap and a taste of the finished product with free pancakes. For event details\, visit glennafarms.com/events
X-ALT-DESC;FMTTYPE=text/html:Glenna Farms invites the community back on Saturday\, March 23 and Sunday\, March 24 for their annual event\, MapleFest. The event\, which goes from 10 a.m. to 2 p.m. each day\, allows members of the community to interact with the process of producing pure maple syrup with live demonstrations of cooking sap and a taste of the finished product with free pancakes. For event details\, visit glennafarms.com/events
LOCATION:Glenna Farms 1333 120th St Amery\, WI 54001
UID:e.249.7309
SEQUENCE:3
DTSTAMP:20260421T092925Z
URL:https://www.newrichmondchamber.com/events/details/maplefest-2024-7309
END:VEVENT

END:VCALENDAR
