BEGIN:VCALENDAR
VERSION:2.0
PRODID:-//ChamberMaster//Event Calendar 2.0//EN
METHOD:PUBLISH
X-PUBLISHED-TTL:P3D
REFRESH-INTERVAL:P3D
CALSCALE:GREGORIAN
BEGIN:VEVENT
DTSTART;VALUE=DATE:20210327
DTEND;VALUE=DATE:20210329
TRANSP:TRANSPARENT
X-MICROSOFT-CDO-ALLDAYEVENT:TRUE
SUMMARY:MapleFest
DESCRIPTION:It's maple syrup season! Celebrate with free pancakes and free horse-drawn hayrides.
X-ALT-DESC;FMTTYPE=text/html:It&#39\;s maple syrup season! Celebrate with free pancakes and free horse-drawn hayrides.
LOCATION:Glenna Farms 1333 120th Street Amery\, WI 54001
UID:e.249.6925
SEQUENCE:3
DTSTAMP:20260426T004222Z
URL:https://www.newrichmondchamber.com/events/details/maplefest-03-27-2021-6925
END:VEVENT

END:VCALENDAR
