BEGIN:VCALENDAR
VERSION:2.0
PRODID:-//ChamberMaster//Event Calendar 2.0//EN
METHOD:PUBLISH
X-PUBLISHED-TTL:P3D
REFRESH-INTERVAL:P3D
CALSCALE:GREGORIAN
BEGIN:VEVENT
DTSTART:20190204T233000Z
DTEND:20190205T013000Z
X-MICROSOFT-CDO-ALLDAYEVENT:FALSE
SUMMARY:Make Fresh Pasta
DESCRIPTION:Learn to make fresh pasta with That Cooking School\, from making the dough to testing the noodles when they are finished. Everything is provided to complete this culinary treat! Red and white sauce will be provided as well. Registration required. Space limited. Adults only. Register here: https://goo.gl/forms/sNArBukuYZDOK9Wl2
X-ALT-DESC;FMTTYPE=text/html:Learn to make fresh pasta with That Cooking School\, from making the dough to testing the noodles when they are finished. Everything is provided to complete this culinary treat! Red and white sauce will be provided as well. Registration required. Space limited. Adults only. Register here: https://goo.gl/forms/sNArBukuYZDOK9Wl2
LOCATION:Lower Level of the Civic Center
UID:e.249.5370
SEQUENCE:3
DTSTAMP:20260424T222121Z
URL:https://www.newrichmondchamber.com/events/details/make-fresh-pasta-5370
END:VEVENT

END:VCALENDAR
