BEGIN:VCALENDAR
VERSION:2.0
PRODID:-//ChamberMaster//Event Calendar 2.0//EN
METHOD:PUBLISH
X-PUBLISHED-TTL:P3D
REFRESH-INTERVAL:P3D
CALSCALE:GREGORIAN
BEGIN:VEVENT
DTSTART:20210909T230000Z
DTEND:20210910T013000Z
X-MICROSOFT-CDO-ALLDAYEVENT:FALSE
SUMMARY:M.A.D. Trivia
DESCRIPTION:You will make a difference because this event is being held to support a deserving local organization (Operation HELP) Local businesses can register teams of 4 or 8 players. Each player will receive a meal ticket\, drink ticket and event swag. Teams will play 6 rounds of trivia during the event. Prizes will be awarded for the top-preforming trivia team. The venue can host a total of only 200 trivia titans\, so don't delay your registration!
X-ALT-DESC;FMTTYPE=text/html:You will make a difference because this event is being held to support a deserving local organization (Operation HELP) Local businesses can register teams of 4 or 8 players. Each player will receive a meal ticket\, drink ticket and event swag. Teams will play 6 rounds of trivia during the event. Prizes will be awarded for the top-preforming trivia team. The venue can host a total of only 200 trivia titans\, so don&rsquo\;t delay your registration!
LOCATION:RCU Discovery Center at YMCA Camp St. Croix in Hudson\, WI.
UID:e.249.6954
SEQUENCE:3
DTSTAMP:20260423T110903Z
URL:https://www.newrichmondchamber.com/events/details/m-a-d-trivia-6954
END:VEVENT

END:VCALENDAR
