BEGIN:VCALENDAR
VERSION:2.0
PRODID:-//ChamberMaster//Event Calendar 2.0//EN
METHOD:PUBLISH
X-PUBLISHED-TTL:P3D
REFRESH-INTERVAL:P3D
CALSCALE:GREGORIAN
BEGIN:VEVENT
DTSTART:20190223T160000Z
DTEND:20190223T170000Z
X-MICROSOFT-CDO-ALLDAYEVENT:FALSE
SUMMARY:LEGO Animate
DESCRIPTION:Crossing LEGO with technology\, we'll have car races\, challenges\, stop motion\, green screen\, and more.
X-ALT-DESC;FMTTYPE=text/html:Crossing LEGO with technology\, we'll have car races\, challenges\, stop motion\, green screen\, and more.
LOCATION:Friday Memorial Library
UID:e.249.5371
SEQUENCE:3
DTSTAMP:20260424T155623Z
URL:https://www.newrichmondchamber.com/events/details/lego-animate-5371
END:VEVENT

END:VCALENDAR
