BEGIN:VCALENDAR
VERSION:2.0
PRODID:-//ChamberMaster//Event Calendar 2.0//EN
METHOD:PUBLISH
X-PUBLISHED-TTL:P3D
REFRESH-INTERVAL:P3D
CALSCALE:GREGORIAN
BEGIN:VEVENT
DTSTART:20180523T003000Z
DTEND:20180523T023000Z
X-MICROSOFT-CDO-ALLDAYEVENT:FALSE
SUMMARY:Judy Collins
DESCRIPTION:This iconic award-winning singer-songwriter has inspired audiences for five decades. In the 1960's\, she evoked both the idealism and steely determination of a generation. 50 years later\, her luminescent presence shines brightly as new generations bask in the glow of her 50-album body of work.
X-ALT-DESC;FMTTYPE=text/html:This iconic award-winning singer-songwriter has inspired audiences for five decades. In the 1960&#39\;s\, she evoked both the idealism and steely determination of a generation. 50 years later\, her luminescent presence shines brightly as new generations bask in the glow of her 50-album body of work.
LOCATION:Mabel Tainter Center for the Arts\, 205 Main Street East\, Menomonie
UID:e.249.3835
SEQUENCE:3
DTSTAMP:20260419T210744Z
URL:https://www.newrichmondchamber.com/events/details/judy-collins-3835
END:VEVENT

END:VCALENDAR
