BEGIN:VCALENDAR
VERSION:2.0
PRODID:-//ChamberMaster//Event Calendar 2.0//EN
METHOD:PUBLISH
X-PUBLISHED-TTL:P3D
REFRESH-INTERVAL:P3D
CALSCALE:GREGORIAN
BEGIN:VEVENT
DTSTART:20180915T150000Z
DTEND:20180915T160000Z
X-MICROSOFT-CDO-ALLDAYEVENT:FALSE
SUMMARY:International Dot Day
DESCRIPTION:Celebrate creativity\, courage\, & collaboration on International Dot Day. Inspired by the Peter H. Reynolds picture book The Dot.
X-ALT-DESC;FMTTYPE=text/html:Celebrate creativity\, courage\, &amp\; collaboration on International Dot Day. Inspired by the Peter H. Reynolds picture book The Dot.
LOCATION:Friday Memorial Library
UID:e.249.5312
SEQUENCE:3
DTSTAMP:20260424T041027Z
URL:https://www.newrichmondchamber.com/events/details/international-dot-day-5312
END:VEVENT

END:VCALENDAR
