BEGIN:VCALENDAR
VERSION:2.0
PRODID:-//ChamberMaster//Event Calendar 2.0//EN
METHOD:PUBLISH
X-PUBLISHED-TTL:P3D
REFRESH-INTERVAL:P3D
CALSCALE:GREGORIAN
BEGIN:VEVENT
DTSTART:20251115T150000Z
DTEND:20251115T210000Z
X-MICROSOFT-CDO-ALLDAYEVENT:FALSE
SUMMARY:HOLIDAY BAZAAR
DESCRIPTION:We have talented vendors and crafters offering unique gifts and goodies to kickstart your holiday shopping! In addition\, don't miss out on our scrumptious Bake Sale with sweet treats to satisfy your cravings. There will also be a delightful luncheon served from 11:00AM to 2:00PM. Proceeds of the bake sale go towards funding Prairieview's women's ministry outreach programs. It's a day of holiday fun and community connection. Invite a friend and we'll see you there!
X-ALT-DESC;FMTTYPE=text/html:<p>We have talented vendors and crafters offering unique gifts and goodies to kickstart your holiday shopping! In addition\, don&#39\;t miss out on our scrumptious Bake Sale with sweet treats to satisfy your cravings. There will also be a delightful luncheon served from 11:00AM to 2:00PM. Proceeds of the bake sale go towards funding Prairieview&rsquo\;s women&#39\;s ministry outreach programs. It&#39\;s a day of holiday fun and community connection. Invite a friend and we&#39\;ll see you there!<br />\n&nbsp\;</p>\n
LOCATION:
UID:e.249.7912
SEQUENCE:3
DTSTAMP:20260419T193354Z
URL:https://www.newrichmondchamber.com/events/details/holiday-bazaar-7912
END:VEVENT

END:VCALENDAR
