BEGIN:VCALENDAR
VERSION:2.0
PRODID:-//ChamberMaster//Event Calendar 2.0//EN
METHOD:PUBLISH
X-PUBLISHED-TTL:P3D
REFRESH-INTERVAL:P3D
CALSCALE:GREGORIAN
BEGIN:VEVENT
DTSTART:20221031T180000Z
DTEND:20221031T220000Z
X-MICROSOFT-CDO-ALLDAYEVENT:FALSE
SUMMARY:Halloween Trick or Treating
DESCRIPTION:Trick or Treating is back downtown and our chamber member businesses are excited to see you for the first time since 2019. This Halloween tradition goes back decades and thousands of people take part.\n\n\n\nBring your trick or treaters downtown New Richmond on Halloween day (Monday October 31st) from 1pm to 5pm. The Chamber and our business partners are so excited to have this event back\, we look forward to seeing you and all the costumes!
X-ALT-DESC;FMTTYPE=text/html:Trick or Treating is back downtown and our chamber member businesses are excited to see you for the first time since 2019. This Halloween tradition goes back decades and thousands of people take part.<br />\n<br />\nBring your trick or treaters downtown New Richmond on Halloween day (Monday October 31st) from 1pm to 5pm. The Chamber and our business partners are so excited to have this event back\, we look forward to seeing you and all the costumes!
LOCATION:Downtown New Richmond
UID:e.249.7019
SEQUENCE:3
DTSTAMP:20260422T134620Z
URL:https://www.newrichmondchamber.com/events/details/halloween-trick-or-treating-7019
END:VEVENT

END:VCALENDAR
