BEGIN:VCALENDAR
VERSION:2.0
PRODID:-//ChamberMaster//Event Calendar 2.0//EN
METHOD:PUBLISH
X-PUBLISHED-TTL:P3D
REFRESH-INTERVAL:P3D
CALSCALE:GREGORIAN
BEGIN:VEVENT
DTSTART:20260403T233000Z
DTEND:20260404T003000Z
X-MICROSOFT-CDO-ALLDAYEVENT:FALSE
SUMMARY:GOOD FRIDAY
DESCRIPTION:We invite you to join us on Good Friday for this powerful and contemplative experience. We'll journey through the final days leading up to Jesus' death through a service of Tenebrae. This is a special church tradition that incorporates a sequence of scripture that tell the story of Jesus' crucifixion\, accompanied by music and the gradual extinguishing of candles. In the dark ending\, we leave in silence to our homes reflecting on the sacrifice of our Lord until we return once again for Easter Morning!
X-ALT-DESC;FMTTYPE=text/html:<p>We invite you to join us on Good Friday for this powerful and contemplative experience. We&rsquo\;ll journey through the final days leading up to Jesus&rsquo\; death through a service of Tenebrae. This is a special church tradition that incorporates a sequence of scripture that tell the story of Jesus&rsquo\; crucifixion\, accompanied by music and the gradual extinguishing of candles. In the dark ending\, we leave in silence to our homes reflecting on the sacrifice of our Lord until we return once again for Easter Morning!</p>\n
LOCATION:Prairieview Covenant Church
UID:e.249.7941
SEQUENCE:3
DTSTAMP:20260420T194108Z
URL:https://www.newrichmondchamber.com/events/details/good-friday-7941
END:VEVENT

END:VCALENDAR
