BEGIN:VCALENDAR
VERSION:2.0
PRODID:-//ChamberMaster//Event Calendar 2.0//EN
METHOD:PUBLISH
X-PUBLISHED-TTL:P3D
REFRESH-INTERVAL:P3D
CALSCALE:GREGORIAN
BEGIN:VEVENT
DTSTART:20250520T190000Z
DTEND:20250520T193000Z
X-MICROSOFT-CDO-ALLDAYEVENT:FALSE
SUMMARY:Edward Jones - Groundbreaking Ceremony
DESCRIPTION:We invite you to the Groundbreaking Ceremony for the new Edward Jones Advisors Building. The event will take place on Tuesday\, May 20th at 2:00 p.m. at the future site - 1448 Hamilton Avenue.  Attached you will find the official invitation. \n\n \n\nWe hope you all can join us in celebrating this exciting addition to our community.
X-ALT-DESC;FMTTYPE=text/html:<p style="color: rgb(0\, 0\, 0)\; font-family: &quot\;Segoe UI Web (West European)&quot\;\, &quot\;Segoe UI&quot\;\, -apple-system\, BlinkMacSystemFont\, Roboto\, &quot\;Helvetica Neue&quot\;\, sans-serif\; font-size: medium\; margin: 0in\;"><span style="border: 0px\; font-style: inherit\; font-variant: inherit\; font-weight: inherit\; font-stretch: inherit\; font-size: 12pt\; line-height: inherit\; font-family: Calibri\, sans-serif\; font-optical-sizing: inherit\; font-size-adjust: inherit\; font-kerning: inherit\; font-feature-settings: inherit\; font-variation-settings: inherit\; margin: 0px\; padding: 0px\; vertical-align: baseline\; color: rgb(36\, 36\, 36)\;">We invite you to the Groundbreaking Ceremony for the new Edward Jones Advisors Building. The event will take place on&nbsp\;<b>Tuesday\,&nbsp\;May 20th at 2:00 p.m.</b>&nbsp\;at the future site -&nbsp\;<b>1448 Hamilton Avenue</b>.&nbsp\; Attached you will find the official invitation.&nbsp\;</span></p>\n\n<p style="color: rgb(0\, 0\, 0)\; font-family: &quot\;Segoe UI Web (West European)&quot\;\, &quot\;Segoe UI&quot\;\, -apple-system\, BlinkMacSystemFont\, Roboto\, &quot\;Helvetica Neue&quot\;\, sans-serif\; font-size: medium\; margin: 0in\;"><span style="border: 0px\; font-style: inherit\; font-variant: inherit\; font-weight: inherit\; font-stretch: inherit\; font-size: 12pt\; line-height: inherit\; font-family: Calibri\, sans-serif\; font-optical-sizing: inherit\; font-size-adjust: inherit\; font-kerning: inherit\; font-feature-settings: inherit\; font-variation-settings: inherit\; margin: 0px\; padding: 0px\; vertical-align: baseline\; color: rgb(36\, 36\, 36)\;">&nbsp\;</span></p>\n\n<p style="color: rgb(0\, 0\, 0)\; font-family: &quot\;Segoe UI Web (West European)&quot\;\, &quot\;Segoe UI&quot\;\, -apple-system\, BlinkMacSystemFont\, Roboto\, &quot\;Helvetica Neue&quot\;\, sans-serif\; font-size: medium\; margin: 0in\;"><span style="border: 0px\; font-style: inherit\; font-variant: inherit\; font-weight: inherit\; font-stretch: inherit\; font-size: 12pt\; line-height: inherit\; font-family: Calibri\, sans-serif\; font-optical-sizing: inherit\; font-size-adjust: inherit\; font-kerning: inherit\; font-feature-settings: inherit\; font-variation-settings: inherit\; margin: 0px\; padding: 0px\; vertical-align: baseline\; color: rgb(36\, 36\, 36)\;">We hope you all can join us in celebrating this exciting addition to our community.</span></p>\n
LOCATION:1448 Hamilton Avenue\, New Richmond WI 54017
UID:e.249.7892
SEQUENCE:3
DTSTAMP:20260420T075250Z
URL:https://www.newrichmondchamber.com/events/details/edward-jones-groundbreaking-ceremony-7892
END:VEVENT

END:VCALENDAR
