BEGIN:VCALENDAR
VERSION:2.0
PRODID:-//ChamberMaster//Event Calendar 2.0//EN
METHOD:PUBLISH
X-PUBLISHED-TTL:P3D
REFRESH-INTERVAL:P3D
CALSCALE:GREGORIAN
BEGIN:VEVENT
DTSTART:20260405T150000Z
DTEND:20260405T160000Z
X-MICROSOFT-CDO-ALLDAYEVENT:FALSE
SUMMARY:EASTER SUNDAY!
DESCRIPTION:Experience the significance of Easter Sunday at Prairieview! Join in the joyous celebration as our collective worship echoes with cherished hymns and vibrant contemporary melodies that stir your spirit. Immerse yourself in the story of Jesus' resurrection\, enriched with a message of hope found only in Jesus Christ. Gather your loved ones and come embrace the sacredness of this holy moment with us! NOTE: There is no other programming or fellowship meal this morning.
X-ALT-DESC;FMTTYPE=text/html:<p>Experience the significance of Easter Sunday at Prairieview! Join in the joyous celebration as our collective worship echoes with cherished hymns and vibrant contemporary melodies that stir your spirit. Immerse yourself in the story of Jesus&rsquo\; resurrection\, enriched with a message of hope found only in Jesus Christ. Gather your loved ones and come embrace the sacredness of this holy moment with us! NOTE: There is no other programming or fellowship meal this morning.</p>\n
LOCATION:Prairieview Covenant Church
UID:e.249.7942
SEQUENCE:3
DTSTAMP:20260420T193949Z
URL:https://www.newrichmondchamber.com/events/details/easter-sunday-7942
END:VEVENT

END:VCALENDAR
