BEGIN:VCALENDAR
VERSION:2.0
PRODID:-//ChamberMaster//Event Calendar 2.0//EN
METHOD:PUBLISH
X-PUBLISHED-TTL:P3D
REFRESH-INTERVAL:P3D
CALSCALE:GREGORIAN
BEGIN:VEVENT
DTSTART;VALUE=DATE:20251122
DTEND;VALUE=DATE:20251123
TRANSP:TRANSPARENT
X-MICROSOFT-CDO-ALLDAYEVENT:TRUE
SUMMARY:Doe-On-The-Go Craft & Bake Sale
DESCRIPTION:Embrace the season's spirit and discover a treasure trove of unique handmade crafts\, delightful treats\, and festive joy. Proceeds will benefit our capital campaign.
X-ALT-DESC;FMTTYPE=text/html:&nbsp\;Embrace the season&#39\;s spirit and discover a treasure trove of unique handmade crafts\, delightful treats\, and festive joy. Proceeds will benefit our capital campaign.
LOCATION:Five Loaves Food Shelf 144 W. Third Street New Richmond\, WI 54017
UID:e.249.7923
SEQUENCE:3
DTSTAMP:20260419T193527Z
URL:https://www.newrichmondchamber.com/events/details/doe-on-the-go-craft-bake-sale-7923
END:VEVENT

END:VCALENDAR
