BEGIN:VCALENDAR
VERSION:2.0
PRODID:-//ChamberMaster//Event Calendar 2.0//EN
METHOD:PUBLISH
X-PUBLISHED-TTL:P3D
REFRESH-INTERVAL:P3D
CALSCALE:GREGORIAN
BEGIN:VEVENT
DTSTART:20180619T223000Z
DTEND:20180620T003000Z
X-MICROSOFT-CDO-ALLDAYEVENT:FALSE
SUMMARY:DIY Creative Workshop
DESCRIPTION:DIY Creative Workshop: Upcycled CDs & Geode Bath Bombs. For teens & adults. Registration Required. Register online at www.newrichmondlibrary.org
X-ALT-DESC;FMTTYPE=text/html:DIY Creative Workshop: Upcycled CDs &amp\; Geode Bath Bombs. For teens &amp\; adults. Registration Required. Register online at www.newrichmondlibrary.org
LOCATION:Friday Memorial Library
UID:e.249.4936
SEQUENCE:3
DTSTAMP:20260421T000748Z
URL:https://www.newrichmondchamber.com/events/details/diy-creative-workshop-4936
END:VEVENT

END:VCALENDAR
