BEGIN:VCALENDAR
VERSION:2.0
PRODID:-//ChamberMaster//Event Calendar 2.0//EN
METHOD:PUBLISH
X-PUBLISHED-TTL:P3D
REFRESH-INTERVAL:P3D
CALSCALE:GREGORIAN
BEGIN:VEVENT
DTSTART:20180717T223000Z
DTEND:20180718T003000Z
X-MICROSOFT-CDO-ALLDAYEVENT:FALSE
SUMMARY:DIY Creative Workshop
DESCRIPTION:DIY Creative Workshop: Learn Henna Tattoos. For teens & adults. Registration Required. Register online at www.newrichmondlibrary.org
X-ALT-DESC;FMTTYPE=text/html:DIY Creative Workshop: Learn Henna Tattoos. For teens &amp\; adults. Registration Required. Register online at www.newrichmondlibrary.org
LOCATION:Friday Memorial Library
UID:e.249.4947
SEQUENCE:3
DTSTAMP:20260421T003129Z
URL:https://www.newrichmondchamber.com/events/details/diy-creative-workshop-07-17-2018-4947
END:VEVENT

END:VCALENDAR
