BEGIN:VCALENDAR
VERSION:2.0
PRODID:-//ChamberMaster//Event Calendar 2.0//EN
METHOD:PUBLISH
X-PUBLISHED-TTL:P3D
REFRESH-INTERVAL:P3D
CALSCALE:GREGORIAN
BEGIN:VEVENT
DTSTART:20180606T150000Z
DTEND:20180606T160000Z
X-MICROSOFT-CDO-ALLDAYEVENT:FALSE
SUMMARY:Cognition Awareness & Evaluation
DESCRIPTION:Explore the different types of cognitive challenges and how they impact function and performance. Discover how to recognize cognitive changes in yourself or those you love. Learn more about the techniques and resources available to help. Presented by Audrey Ohmdahl-Chaput\, a Lakeview Homecare Occupational Therapist. Light refreshments served.
X-ALT-DESC;FMTTYPE=text/html:Explore the different types of cognitive challenges and how they impact function and performance. Discover how to recognize cognitive changes in yourself or those you love. Learn more about the techniques and resources available to help. Presented by Audrey Ohmdahl-Chaput\, a Lakeview Homecare Occupational Therapist. Light refreshments served.
LOCATION:The Deerfield Auditorium
UID:e.249.4915
SEQUENCE:3
DTSTAMP:20260420T111216Z
URL:https://www.newrichmondchamber.com/events/details/cognition-awareness-evaluation-4915
END:VEVENT

END:VCALENDAR
