BEGIN:VCALENDAR
VERSION:2.0
PRODID:-//ChamberMaster//Event Calendar 2.0//EN
METHOD:PUBLISH
X-PUBLISHED-TTL:P3D
REFRESH-INTERVAL:P3D
CALSCALE:GREGORIAN
BEGIN:VEVENT
DTSTART:20251206T230000Z
DTEND:20251207T013000Z
X-MICROSOFT-CDO-ALLDAYEVENT:FALSE
SUMMARY:CHRISTMAS TEA
DESCRIPTION:Our Women's Christmas Tea is a delightful way to kick off the holiday season. This year's theme is "Mary\, Did You Know?" The message will be delivered by Jonna Fantz\, and our worship team will provide special music.  After the program\, attendees will be invited to the fellowship hall\, where a sumptuous buffet awaits\, featuring appetizers\, finger foods\, and sweets.  Enjoy a selection of tea\, hot apple cider and decaf coffee as you celebrate the season!
X-ALT-DESC;FMTTYPE=text/html:<p><span style="font-family:arial\,sans-serif">Our Women&#39\;s Christmas Tea is a delightful way to kick off the holiday season. This year&#39\;s theme is &quot\;Mary\, Did You Know?&quot\; The message will be delivered by Jonna Fantz\, and our worship team will provide special music.&nbsp\;&nbsp\;</span><span style="font-family:arial\,sans-serif">After the program\, attendees will be invited to the fellowship hall\, where a sumptuous buffet awaits\, featuring appetizers\, finger foods\, and sweets.&nbsp\; Enjoy a selection of tea\, hot apple cider and decaf coffee as you celebrate the season!</span><br />\n&nbsp\;</p>\n
LOCATION:Prairieview Covenant Church
UID:e.249.7924
SEQUENCE:3
DTSTAMP:20260419T175209Z
URL:https://www.newrichmondchamber.com/events/details/christmas-tea-7924
END:VEVENT

END:VCALENDAR
