BEGIN:VCALENDAR
VERSION:2.0
PRODID:-//ChamberMaster//Event Calendar 2.0//EN
METHOD:PUBLISH
X-PUBLISHED-TTL:P3D
REFRESH-INTERVAL:P3D
CALSCALE:GREGORIAN
BEGIN:VEVENT
DTSTART:20250426T160000Z
DTEND:20250426T210000Z
X-MICROSOFT-CDO-ALLDAYEVENT:FALSE
SUMMARY:Busted Knuckle BBQ's 1st Anniversary & Rib Fest
DESCRIPTION:April 26\, 2025  11:00 am - 4:00 pm\n\nLift Bridge Brewing New Richmond\, 1280 Madison Ave\, New Richmond\, WI 54017\, USA\n\n\n\nHelp us celebrate Busted Knuckle BBQ's 1st Anniversary with Rib Fest - a festival of Beer & Ribs on Saturday\, April 26!\n\nCorey & his Busted Knuckle Team will be serving up RIB FLIGHTS from 11 AM - 4 PM.\n\n  St. Louis Pork Ribs: our classic pork rib\, available every Thursday night in the taproom\n\n  Denver Lamb Ribs: Greek-seasoned and smoked to perfection\n\n  Baby Back Pork Rib Tips: Spicy\, saucy\, perfectly tender\, bite sized baby back riblets\n\n  Bacon Ribs: Bone-in Pork Belly - cured like bacon\, smoked like ribs\n\nJoin us at 3 PM to toast Busted Knuckle BBQ by celebrating with shots of Farm Day!\n\nMore on Busted Knuckle BBQ:\n\nFood is the only universally understood love language and barbecue is the world's oldest form of cooking.\n\nMeat. Fire. Smoke.\n\n\n\nAt Busted Knuckle\, good barbecue is an obsession. From our house-made rubs and sauces to our mouth watering\, hardwood smoked meats\, we hope you can taste what we are passionate about in every bite.\n\n\n\n\n\nEnjoy!
X-ALT-DESC;FMTTYPE=text/html:<p>April 26\, 2025&nbsp\;&nbsp\;11:00 am&nbsp\;-&nbsp\;4:00 pm<br />\nLift Bridge Brewing New Richmond\, 1280 Madison Ave\, New Richmond\, WI 54017\, USA</p>\n\n<div>\n<div>\n<p>Help us celebrate&nbsp\;<a href="https://www.facebook.com/profile.php?id=100093254852858" style="box-sizing: border-box\; background-color: transparent\; text-decoration-line: none\; color: rgb(192\, 49\, 26)\;">Busted Knuckle BBQ</a>&#39\;s 1st Anniversary with Rib Fest - a festival of Beer &amp\; Ribs on Saturday\, April 26!</p>\n\n<p>Corey &amp\; his Busted Knuckle Team&nbsp\;will be serving up&nbsp\;RIB FLIGHTS&nbsp\;from&nbsp\;11 AM - 4 PM.<br />\n&nbsp\;&nbsp\;St. Louis Pork Ribs:&nbsp\;our classic pork rib\, available every Thursday night in the taproom</p>\n\n<p>&nbsp\;&nbsp\;Denver Lamb Ribs:&nbsp\;Greek-seasoned and smoked to perfection</p>\n\n<p>&nbsp\;&nbsp\;Baby Back Pork Rib Tips:&nbsp\;Spicy\, saucy\, perfectly tender\, bite sized baby back riblets</p>\n\n<p>&nbsp\;&nbsp\;Bacon Ribs: Bone-in Pork Belly - cured like bacon\, smoked like ribs</p>\n\n<p>Join us at 3 PM to toast Busted Knuckle BBQ&nbsp\;by&nbsp\;<u>celebrating with shots</u>&nbsp\;of&nbsp\;Farm Day!</p>\n\n<p><em>More on&nbsp\;<a href="https://www.instagram.com/thebustedknucklebbq/" style="box-sizing: border-box\; background-color: transparent\; text-decoration-line: none\; color: rgb(192\, 49\, 26)\;" target="_blank">Busted Knuckle BBQ</a>:<br />\nFood&nbsp\;is the only&nbsp\;universally understood love language&nbsp\;and&nbsp\;barbecue is the world&#39\;s oldest form of cooking.</em></p>\n\n<p><em>Meat. Fire. Smoke.<br />\n<br />\nAt Busted Knuckle\,&nbsp\;good barbecue is an obsession.&nbsp\;From our&nbsp\;house-made rubs and sauces&nbsp\;to our&nbsp\;mouth watering\, hardwood smoked meats\,&nbsp\;we hope you can taste what we are&nbsp\;<u>passionate about in every bite</u>.</em><br />\n<br />\n<br />\n<em>Enjoy!</em></p>\n</div>\n</div>\n
LOCATION:Lift Bridge Brewing New Richmond\, 1280 Madison Ave\, New Richmond\, WI 54017\, USA
UID:e.249.7890
SEQUENCE:3
DTSTAMP:20260422T092220Z
URL:https://www.newrichmondchamber.com/events/details/busted-knuckle-bbq-s-1st-anniversary-rib-fest-7890
END:VEVENT

END:VCALENDAR
