BEGIN:VCALENDAR
VERSION:2.0
PRODID:-//ChamberMaster//Event Calendar 2.0//EN
METHOD:PUBLISH
X-PUBLISHED-TTL:P3D
REFRESH-INTERVAL:P3D
CALSCALE:GREGORIAN
BEGIN:VEVENT
DTSTART:20240923T193000Z
DTEND:20240923T223000Z
X-MICROSOFT-CDO-ALLDAYEVENT:FALSE
SUMMARY:Bremer Bank Business Series - Unlocking the Power of AI and Economic Update
DESCRIPTION:Bremer Bank is hosting a business event on September 23rd starting at 2:30 with networking after. This event is designed for business leaders and will include an economic update from Bremer Bank's Chief Investment Officer Josh Howard as well as focusing on the power of generative artificial Intelligence (AI) and its tangible benefits with real-world applications.
X-ALT-DESC;FMTTYPE=text/html:Bremer Bank is hosting a business event on September 23rd starting at 2:30 with networking after. This event is designed for business leaders and will include an economic update from Bremer Bank&#39\;s Chief Investment Officer Josh Howard as well as focusing on the power of generative artificial Intelligence (AI) and its tangible benefits with real-world applications.
LOCATION:Northwood Technical College\, Conference Center room #1122 1019 S Knowles Ave New Richmond\, WI 54017
UID:e.249.7731
SEQUENCE:3
DTSTAMP:20260421T001311Z
URL:https://www.newrichmondchamber.com/events/details/bremer-bank-business-series-unlocking-the-power-of-ai-and-economic-update-7731
END:VEVENT

END:VCALENDAR
