BEGIN:VCALENDAR
VERSION:2.0
PRODID:-//ChamberMaster//Event Calendar 2.0//EN
METHOD:PUBLISH
X-PUBLISHED-TTL:P3D
REFRESH-INTERVAL:P3D
CALSCALE:GREGORIAN
BEGIN:VEVENT
DTSTART:20241207T150000Z
DTEND:20241207T180000Z
X-MICROSOFT-CDO-ALLDAYEVENT:FALSE
SUMMARY:Breakfast with Santa
DESCRIPTION:A free event for community members to enjoy pancakes\, pictures with Santa\, and kid frinedly crafts.
X-ALT-DESC;FMTTYPE=text/html:A free event for community members to enjoy pancakes\, pictures with Santa\, and kid frinedly crafts.
LOCATION:Doyle's Farm & Home 560 Deere Drive New Richmond\, WI 54017
UID:e.249.7732
SEQUENCE:3
DTSTAMP:20260420T191828Z
URL:https://www.newrichmondchamber.com/events/details/breakfast-with-santa-7732
END:VEVENT

END:VCALENDAR
