BEGIN:VCALENDAR
VERSION:2.0
PRODID:-//ChamberMaster//Event Calendar 2.0//EN
METHOD:PUBLISH
X-PUBLISHED-TTL:P3D
REFRESH-INTERVAL:P3D
CALSCALE:GREGORIAN
BEGIN:VEVENT
DTSTART:20180913T233000Z
DTEND:20180914T003000Z
X-MICROSOFT-CDO-ALLDAYEVENT:FALSE
SUMMARY:Author Spotlight: T. K. Ambers
DESCRIPTION:Local author\, T.K. Ambers discusses her new book Runway Dreams: A Black & White Affair.
X-ALT-DESC;FMTTYPE=text/html:Local author\, T.K. Ambers discusses her new book Runway Dreams: A Black &amp\; White Affair.
LOCATION:Friday Memorial Library
UID:e.249.5311
SEQUENCE:3
DTSTAMP:20260423T230548Z
URL:https://www.newrichmondchamber.com/events/details/author-spotlight-t-k-ambers-5311
END:VEVENT

END:VCALENDAR
