BEGIN:VCALENDAR
VERSION:2.0
PRODID:-//ChamberMaster//Event Calendar 2.0//EN
METHOD:PUBLISH
X-PUBLISHED-TTL:P3D
REFRESH-INTERVAL:P3D
CALSCALE:GREGORIAN
BEGIN:VEVENT
DTSTART:20241029T123000Z
DTEND:20241029T170000Z
X-MICROSOFT-CDO-ALLDAYEVENT:FALSE
SUMMARY:2nd Annual Workforce Summit
DESCRIPTION:Ready to dive into the future of our workforce? Join Family Friendly Workplaces and the River Falls Chamber of Commerce at the 2nd Annual Workforce Summit\, where industry leaders from across Western Wisconsin will gather to explore critical strategies for long-term business success.\n\n  Date: Tuesday\, October 29\, 2024  \n\n  Time: 7:30 AM   12:00 PM  \n\n  Location: UWRF University Center\, Falcon's Nest\, 501 Wild Rose Avenue\, River Falls\, WI \n\nThis summit is packed with insights that will shape the future of our labor market\, including key discussions on:\n\n	Talent attraction & retention\n	Apprenticeships\n	Generational communication\n	AI in business \n\nSpeakers You Won't Want to Miss:\n\n-Brad Gingras   "That's What I Meme: Generational Communication & Feedback"  \n\n- Dr. Rich Barnhouse   "Leveraging AI to Support Business and Workforce Prosperity" \n\nPlus\, we'll have breakout sessions featuring a panel discussion with young professionals\, and Secretary Amy Pechacek from the Wisconsin Dept. of Workforce Development speaking on apprenticeships.\n\n Check out the full flyer below\, and don't miss your chance to be part of this crucial conversation and help shape the future of our workforce.\n\nThe Workforce Summit 2024 - Oct 29\, 2024 (rfchamber.com)
X-ALT-DESC;FMTTYPE=text/html:<span style="font-family:arial\,sans-serif\;"><span style="font-size:10.5pt\;">Ready to dive into the future of our workforce? Join Family Friendly Workplaces and the River Falls Chamber of Commerce at the&nbsp\;<strong><span style="font-family:arial\,sans-serif\;">2nd Annual Workforce Summit</span></strong>\,&nbsp\;where industry leaders from across Western Wisconsin will gather to explore critical strategies for long-term business success.</span></span><br />\n<span style="font-family:segoe ui emoji\,sans-serif\;"><span style="font-size:10.5pt\;">&#128467\;</span></span><span style="font-family:arial\,sans-serif\;"><span style="font-size:10.5pt\;">&nbsp\;<strong><span style="font-family:arial\,sans-serif\;">Date:</span></strong>&nbsp\;Tuesday\, October 29\, 2024 &nbsp\;</span></span><br />\n<span style="font-family:segoe ui emoji\,sans-serif\;"><span style="font-size:10.5pt\;">&#9200\;</span></span><span style="font-family:arial\,sans-serif\;"><span style="font-size:10.5pt\;">&nbsp\;<strong><span style="font-family:arial\,sans-serif\;">Time:</span></strong>&nbsp\;7:30 AM &ndash\; 12:00 PM &nbsp\;</span></span><br />\n<span style="font-family:segoe ui emoji\,sans-serif\;"><span style="font-size:10.5pt\;">&#128205\;</span></span><span style="font-family:arial\,sans-serif\;"><span style="font-size:10.5pt\;">&nbsp\;<strong><span style="font-family:arial\,sans-serif\;">Location</span></strong>: UWRF University Center\, Falcon&#39\;s Nest\, 501 Wild Rose Avenue\, River Falls\, WI&nbsp\;</span></span><br />\n<span style="font-family:arial\,sans-serif\;"><span style="font-size:10.5pt\;">This summit is packed with insights that will shape the future of our labor market\, including key discussions on:</span></span>\n<ul>\n	<li style="line-height:14.7pt\;"><strong><span style="font-family:arial\,sans-serif\;"><span style="font-size:10.5pt\;">Talent attraction &amp\; retention</span></span></strong></li>\n	<li style="line-height:14.7pt\;"><strong><span style="font-family:arial\,sans-serif\;"><span style="font-size:10.5pt\;">Apprenticeships</span></span></strong></li>\n	<li style="line-height:14.7pt\;"><strong><span style="font-family:arial\,sans-serif\;"><span style="font-size:10.5pt\;">Generational communication</span></span></strong></li>\n	<li style="line-height:14.7pt\;"><strong><span style="font-family:arial\,sans-serif\;"><span style="font-size:10.5pt\;">AI in business&nbsp\;</span></span></strong></li>\n</ul>\n<strong><span style="font-family:arial\,sans-serif\;"><span style="font-size:10.5pt\;">Speakers You Won&#39\;t Want to Miss:</span></span></strong><br />\n<span style="font-family:arial\,sans-serif\;"><span style="font-size:10.5pt\;">-<em><span style="font-family:arial\,sans-serif\;">Brad Gingras</span></em>&nbsp\;&ndash\; &ldquo\;That&rsquo\;s What I Meme: Generational Communication &amp\; Feedback&rdquo\; &nbsp\;<br />\n-&nbsp\;<em><span style="font-family:arial\,sans-serif\;">Dr. Rich Barnhouse</span></em>&nbsp\;&ndash\; &ldquo\;Leveraging AI to Support Business and Workforce Prosperity&rdquo\;&nbsp\;</span></span><br />\n<span style="font-family:arial\,sans-serif\;"><span style="font-size:10.5pt\;">Plus\, we&rsquo\;ll have breakout sessions featuring a&nbsp\;<strong><span style="font-family:arial\,sans-serif\;">panel discussion with young professionals</span></strong>\, and Secretary Amy Pechacek from the Wisconsin Dept. of Workforce Development speaking on&nbsp\;<strong><span style="font-family:arial\,sans-serif\;">apprenticeships.</span></strong></span></span><br />\n<span style="font-family:arial\,sans-serif\;"><span style="font-size:10.5pt\;">&nbsp\;Check out the full flyer below\, and don&rsquo\;t miss your chance to be part of this crucial conversation and help shape the future of our workforce.</span></span><br />\n<a href="https://tourism.rfchamber.com/events/details/the-workforce-summit-2024-21586">The Workforce Summit 2024 - Oct 29\, 2024 (rfchamber.com)</a>
LOCATION:UWRF University Center\, Falcon's Nest\, 501 Wild Rose Ave\, River Falls\, WI
UID:e.249.7734
SEQUENCE:3
DTSTAMP:20260420T222613Z
URL:https://www.newrichmondchamber.com/events/details/2nd-annual-workforce-summit-7734
END:VEVENT

END:VCALENDAR
