BEGIN:VCALENDAR
VERSION:2.0
PRODID:-//ChamberMaster//Event Calendar 2.0//EN
METHOD:PUBLISH
X-PUBLISHED-TTL:P3D
REFRESH-INTERVAL:P3D
CALSCALE:GREGORIAN
BEGIN:VEVENT
DTSTART:20250712T150000Z
DTEND:20250712T170000Z
X-MICROSOFT-CDO-ALLDAYEVENT:FALSE
SUMMARY:2025 Fun Fest Motorcycle Showcase
DESCRIPTION:A twist on the classic "car" show  Get ready for a one-of-a-kind experience at the Motorcycle Showcase\, an exhilarating display designed for bike enthusiasts of all ages! This event promises to be a thrilling celebration of the passion for riding.\n\nJoin us on Saturday July 12th\, from 10 AM-12 PM (Civic Center Parking Lot)  Attendees will have the opportunity to explore a stunning array of bikes\, appreciating both vintage and contemporary models.\n\nOn your way out\, we invite all riders to take part in a joyful parade down Main Street (S Knowles)\, allowing spectators and fairgoers to admire your impressive machines!\n\nAdmission is free for all bikes\, just show up and be part of the excitement!\n\nContact us for more information or questions:\n\n	+1 715-256-2900\n	info@newrichmondchamber.com
X-ALT-DESC;FMTTYPE=text/html:<span style="color: rgb(0\, 0\, 0)\; font-family: tahoma\, sans-serif\, serif\, EmojiFont\; font-size: large\;">A twist on the classic &ldquo\;car&rdquo\; show&hellip\; Get ready for a&nbsp\;</span><em style="color: rgb(0\, 0\, 0)\; font-family: tahoma\, sans-serif\, serif\, EmojiFont\; font-size: large\;">one-of-a-kind</em><span style="color: rgb(0\, 0\, 0)\; font-family: tahoma\, sans-serif\, serif\, EmojiFont\; font-size: large\;">&nbsp\;experience at the Motorcycle Showcase\, an exhilarating display designed for bike enthusiasts of all ages! This event promises to be a thrilling celebration of the passion for riding.</span><br style="color: rgb(0\, 0\, 0)\; font-family: tahoma\, sans-serif\, serif\, EmojiFont\; font-size: large\;" />\n<span style="color: rgb(0\, 0\, 0)\; font-family: tahoma\, sans-serif\, serif\, EmojiFont\; font-size: large\;">Join us on Saturday July 12th\, from 10 AM-12 PM (Civic Center Parking Lot)&nbsp\; Attendees will have the opportunity to explore a stunning array of bikes\, appreciating both vintage and contemporary models.</span><br style="color: rgb(0\, 0\, 0)\; font-family: tahoma\, sans-serif\, serif\, EmojiFont\; font-size: large\;" />\n<span style="color: rgb(0\, 0\, 0)\; font-family: tahoma\, sans-serif\, serif\, EmojiFont\; font-size: large\;">On your way out\, we invite all riders to take part in a joyful parade down Main Street (S Knowles)\, allowing spectators and fairgoers to admire your impressive machines!</span><br style="color: rgb(0\, 0\, 0)\; font-family: tahoma\, sans-serif\, serif\, EmojiFont\; font-size: large\;" />\n<span style="color: rgb(0\, 0\, 0)\; font-family: tahoma\, sans-serif\, serif\, EmojiFont\; font-size: large\;">Admission is free for all bikes\, just show up and be part of the excitement!</span><br style="color: rgb(0\, 0\, 0)\; font-family: tahoma\, sans-serif\, serif\, EmojiFont\; font-size: large\;" />\n<span style="color: rgb(0\, 0\, 0)\; font-family: tahoma\, sans-serif\, serif\, EmojiFont\; font-size: large\;">Contact us for more information or questions:</span>\n<ul style="color: rgb(0\, 0\, 0)\; font-family: tahoma\, sans-serif\, serif\, EmojiFont\; font-size: large\;">\n	<li>+1 715-256-2900</li>\n	<li>info@newrichmondchamber.com</li>\n	<li>&nbsp\;</li>\n</ul>\n
LOCATION:Civic Center Parking Lot 156 E 1st St New Richmond\, WI 54017
UID:e.249.7906
SEQUENCE:3
DTSTAMP:20260420T043413Z
URL:https://www.newrichmondchamber.com/events/details/2025-fun-fest-motorcycle-showcase-7906
END:VEVENT

END:VCALENDAR
