BEGIN:VCALENDAR
VERSION:2.0
PRODID:-//ChamberMaster//Event Calendar 2.0//EN
METHOD:PUBLISH
X-PUBLISHED-TTL:P3D
REFRESH-INTERVAL:P3D
CALSCALE:GREGORIAN
BEGIN:VEVENT
DTSTART:20240430T150000Z
DTEND:20240430T180000Z
X-MICROSOFT-CDO-ALLDAYEVENT:FALSE
SUMMARY:2024 Women's Business Expo
DESCRIPTION:The area's only women's expo is an event you won't want to miss.   If you're a business looking for exposure\, this event is it with affordable rates for vendor booths. Last year we had over 40 businesses and organizations participate and 300 attendees. The first 300 to arrive receive a Swag Bag\, NOT the first 300 to register. Enjoy networking\, support local entrepreneurs and small businesses as well as find out who is this year's Business Woman of the Year. Best of all\, there's educational value to this event: learn from three successful women business leaders on our panel discussion over lunch. The public is welcome to attend this event!
X-ALT-DESC;FMTTYPE=text/html:The area&#39\;s only women&#39\;s expo is an event you won&#39\;t want to miss.&nbsp\; &nbsp\;If you&#39\;re a business looking for exposure\, this event is it with affordable rates for vendor booths. Last year we had over 40 businesses and organizations participate and 300 attendees. <strong>The first 300 to arrive receive a Swag Bag\, NOT the first 300 to register</strong>. Enjoy networking\, support local entrepreneurs and small businesses as well as find out who is this year&#39\;s Business Woman of the Year. Best of all\, there&#39\;s educational value to this event: learn from three successful women business leaders on our panel discussion over lunch. The public is welcome to attend this event!
LOCATION:R & D Catering
UID:e.249.7278
SEQUENCE:3
DTSTAMP:20260421T103637Z
URL:https://www.newrichmondchamber.com/events/details/2024-women-s-business-expo-7278
END:VEVENT

END:VCALENDAR
