BEGIN:VCALENDAR
VERSION:2.0
PRODID:-//ChamberMaster//Event Calendar 2.0//EN
METHOD:PUBLISH
X-PUBLISHED-TTL:P3D
REFRESH-INTERVAL:P3D
CALSCALE:GREGORIAN
BEGIN:VEVENT
DTSTART:20231102T213000Z
DTEND:20231103T003000Z
X-MICROSOFT-CDO-ALLDAYEVENT:FALSE
SUMMARY:2023 M.A.D Trivia
DESCRIPTION:The Royal Credit Union Foundation partnered with the New Richmond Area Chamber of Commerce to present M.A.D. Trivia on October 20\,2022. The event raised $5\,000 for the New Richmond School District's Happy Kids Backpack Program.\n\nM.A.D. Trivia had over 150 participants gather in teams of eight and compete during six rounds of trivia for prizes. Additional fundraising opportunities were offered at the event to help increase the donation amount for the New Richmond Happy Kids Backpack Program\n\n\nM.A.D Trivia is the RCU Foundation's NEW event | Royal Credit Union
X-ALT-DESC;FMTTYPE=text/html:<p style="box-sizing: border-box\; margin: 0px 0px 15px\; font-size: 16px\; text-rendering: optimizelegibility\; line-height: 1.7\; font-family: &quot\;Open Sans&quot\;\, Arial\, Calibri\, sans-serif\; color: rgb(72\, 72\, 72)\;">The Royal Credit Union Foundation partnered with the New Richmond Area Chamber of Commerce to present M.A.D. Trivia on October 20\,2022. The event raised $5\,000 for the New Richmond School District&rsquo\;s Happy Kids Backpack Program.</p>\n\n<p style="box-sizing: border-box\; margin: 0px 0px 15px\; font-size: 16px\; text-rendering: optimizelegibility\; line-height: 1.7\; font-family: &quot\;Open Sans&quot\;\, Arial\, Calibri\, sans-serif\; color: rgb(72\, 72\, 72)\;">M.A.D. Trivia had over 150 participants gather in teams of eight and compete during six rounds of trivia for prizes. Additional fundraising opportunities were offered at the event to help increase the donation amount for the New Richmond Happy Kids Backpack Program</p>\n<br />\n<a href="https://www.rcu.org/about-royal/community/mad-trivia">M.A.D Trivia is the RCU Foundation&rsquo\;s NEW event | Royal Credit Union</a>
LOCATION:45th Parallel
UID:e.249.7253
SEQUENCE:3
DTSTAMP:20260421T181833Z
URL:https://www.newrichmondchamber.com/events/details/2023-m-a-d-trivia-7253
END:VEVENT

END:VCALENDAR
