BEGIN:VCALENDAR
VERSION:2.0
PRODID:-//ChamberMaster//Event Calendar 2.0//EN
METHOD:PUBLISH
X-PUBLISHED-TTL:P3D
REFRESH-INTERVAL:P3D
CALSCALE:GREGORIAN
BEGIN:VEVENT
DTSTART:20230218T170000Z
DTEND:20230219T000000Z
X-MICROSOFT-CDO-ALLDAYEVENT:FALSE
SUMMARY:2023 Cabin Fever Classic - Reunion
DESCRIPTION:This Cabin Fever is a special one - the 10-year anniversary edition! We ask every player who ever participated\, to come back for this one. A mix of networking\, costumes\, putting and just plain fun making the rounds to come of the finest urban and rural bars on what would otherwise be a boring February afternoon. Support our establishments\, be among friends and make new ones at this one-of-a-kind get together! Form a team of four plus a sober caddy or better yet\, rent a bus with several teams! Enjoy a big buffet and awards at 5pm. This is the largest pub crawl in Western WI.
X-ALT-DESC;FMTTYPE=text/html:This Cabin Fever is a special one - the 10-year anniversary edition! We ask every player who ever participated\, to come back for this one. A mix of networking\, costumes\, putting and just plain fun making the rounds to come of the finest urban and rural bars on what would otherwise be a boring February afternoon. Support our establishments\, be among friends and make new ones at this one-of-a-kind get together! Form a team of four plus a sober caddy or better yet\, rent a bus with several teams! Enjoy a big buffet and awards at 5pm. This is the largest pub crawl in Western WI.
LOCATION:Various locations (New Richmond\, Star Prairie\, Boardman)\, some of the area's finest establishments in and around New Richmond.
UID:e.249.7166
SEQUENCE:3
DTSTAMP:20260422T113050Z
URL:https://www.newrichmondchamber.com/events/details/2023-cabin-fever-classic-reunion-7166
END:VEVENT

END:VCALENDAR
